BEGIN:VCALENDAR
VERSION:2.0
PRODID:-//wp-events-plugin.com//7.2.3.1//EN
TZID:Europe/Berlin
X-WR-TIMEZONE:Europe/Berlin
BEGIN:VEVENT
UID:31@sskc-basketball-ab.de
DTSTART;TZID=Europe/Berlin:20260613T100000
DTEND;TZID=Europe/Berlin:20260614T200000
DTSTAMP:20260410T173247Z
URL:https://sskc-basketball-ab.de/events/lotto-hessen-tour/
SUMMARY:3x3 Lotto Hessen Tour
DESCRIPTION:[caption id="attachment_7119" align="alignnone" width="712"] Sc
 reenshot[/caption]\n\nAnmeldung und Details direkt über die offizielle Fi
 ba Page
ATTACH;FMTTYPE=image/jpeg:https://sskc-basketball-ab.de/wp-content/uploads
 /IMG_0484.png
LOCATION:SSKC Poseidon Gelände\, Stadtbadstr. 5\, Aschaffenburg\, 63743\, 
 Deutschland
X-APPLE-STRUCTURED-LOCATION;VALUE=URI;X-ADDRESS=Stadtbadstr. 5\, Aschaffenb
 urg\, 63743\, Deutschland;X-APPLE-RADIUS=100;X-TITLE=SSKC Poseidon Geländ
 e:geo:0,0
END:VEVENT
BEGIN:VTIMEZONE
TZID:Europe/Berlin
X-LIC-LOCATION:Europe/Berlin
BEGIN:DAYLIGHT
DTSTART:20260329T030000
TZOFFSETFROM:+0100
TZOFFSETTO:+0200
TZNAME:CEST
END:DAYLIGHT
END:VTIMEZONE
END:VCALENDAR